Package: GENESIS Version: 2.39.2 Command: F:\biocbuild\bbs-3.22-bioc\R\bin\R.exe CMD check --no-multiarch --install=check:GENESIS.install-out.txt --library=F:\biocbuild\bbs-3.22-bioc\R\library --no-vignettes --timings GENESIS_2.39.2.tar.gz StartedAt: 2025-08-15 03:32:05 -0400 (Fri, 15 Aug 2025) EndedAt: 2025-08-15 03:41:30 -0400 (Fri, 15 Aug 2025) EllapsedTime: 565.3 seconds RetCode: 0 Status: OK CheckDir: GENESIS.Rcheck Warnings: 0