Package: GENESIS Version: 2.39.2 Command: rm -rf GENESIS.buildbin-libdir && mkdir GENESIS.buildbin-libdir && F:\biocbuild\bbs-3.22-bioc\R\bin\R.exe CMD INSTALL --build --library=GENESIS.buildbin-libdir GENESIS_2.39.2.tar.gz StartedAt: 2025-08-15 10:20:29 -0400 (Fri, 15 Aug 2025) EndedAt: 2025-08-15 10:21:42 -0400 (Fri, 15 Aug 2025) EllapsedTime: 72.1 seconds RetCode: 0 Status: OK PackageFile: GENESIS_2.39.2.zip PackageFileSize: 3.212 MiB