Package: GENESIS Version: 2.39.3 Command: /home/biocbuild/bbs-3.22-bioc/R/bin/R CMD check --install=check:GENESIS.install-out.txt --library=/home/biocbuild/bbs-3.22-bioc/R/site-library --timings GENESIS_2.39.3.tar.gz StartedAt: 2025-10-21 00:06:24 -0400 (Tue, 21 Oct 2025) EndedAt: 2025-10-21 00:13:30 -0400 (Tue, 21 Oct 2025) EllapsedTime: 426.3 seconds RetCode: 0 Status: OK CheckDir: GENESIS.Rcheck Warnings: 0