Package: GENESIS Version: 2.39.3 Command: /Library/Frameworks/R.framework/Resources/bin/R CMD check --install=check:GENESIS.install-out.txt --library=/Library/Frameworks/R.framework/Resources/library --no-vignettes --timings GENESIS_2.39.3.tar.gz StartedAt: 2025-10-20 22:36:19 -0400 (Mon, 20 Oct 2025) EndedAt: 2025-10-20 22:45:02 -0400 (Mon, 20 Oct 2025) EllapsedTime: 523.0 seconds RetCode: 0 Status: OK CheckDir: GENESIS.Rcheck Warnings: 0