Package: GEM Version: 1.35.0 Command: /home/biocbuild/R/R/bin/R CMD build --keep-empty-dirs --no-resave-data GEM StartedAt: 2025-10-17 01:23:02 -0000 (Fri, 17 Oct 2025) EndedAt: 2025-10-17 01:23:27 -0000 (Fri, 17 Oct 2025) EllapsedTime: 25.0 seconds RetCode: 0 Status: OK PackageFile: GEM_1.35.0.tar.gz PackageFileSize: 461.6 KiB