Package: GEM Version: 1.35.0 Command: /Library/Frameworks/R.framework/Resources/bin/R CMD check --install=check:GEM.install-out.txt --library=/Library/Frameworks/R.framework/Resources/library --no-vignettes --timings GEM_1.35.0.tar.gz StartedAt: 2025-10-19 22:29:45 -0400 (Sun, 19 Oct 2025) EndedAt: 2025-10-19 22:31:49 -0400 (Sun, 19 Oct 2025) EllapsedTime: 123.9 seconds RetCode: 0 Status: OK CheckDir: GEM.Rcheck Warnings: 0