Package: GEM Version: 1.35.0 Command: /Library/Frameworks/R.framework/Resources/bin/R CMD INSTALL GEM StartedAt: 2025-10-17 15:04:26 -0400 (Fri, 17 Oct 2025) EndedAt: 2025-10-17 15:04:32 -0400 (Fri, 17 Oct 2025) EllapsedTime: 5.3 seconds RetCode: 0 Status: OK