Package: GCPtools Version: 0.99.4 Command: /home/biocbuild/R/R/bin/R CMD check --install=check:GCPtools.install-out.txt --library=/home/biocbuild/R/R/site-library --no-vignettes --timings GCPtools_0.99.4.tar.gz StartedAt: 2025-10-17 09:13:11 -0000 (Fri, 17 Oct 2025) EndedAt: 2025-10-17 09:13:41 -0000 (Fri, 17 Oct 2025) EllapsedTime: 30.0 seconds RetCode: 0 Status: OK CheckDir: GCPtools.Rcheck Warnings: 0