Package: GCPtools Version: 0.99.4 Command: /home/biocbuild/bbs-3.22-bioc/R/bin/R CMD check --install=check:GCPtools.install-out.txt --library=/home/biocbuild/bbs-3.22-bioc/R/site-library --timings GCPtools_0.99.4.tar.gz StartedAt: 2025-10-20 23:58:35 -0400 (Mon, 20 Oct 2025) EndedAt: 2025-10-20 23:59:07 -0400 (Mon, 20 Oct 2025) EllapsedTime: 32.0 seconds RetCode: 0 Status: OK CheckDir: GCPtools.Rcheck Warnings: 0