Package: GCPtools Version: 0.99.4 Command: /Library/Frameworks/R.framework/Resources/bin/R CMD check --install=check:GCPtools.install-out.txt --library=/Library/Frameworks/R.framework/Resources/library --no-vignettes --timings GCPtools_0.99.4.tar.gz StartedAt: 2025-10-21 22:05:24 -0400 (Tue, 21 Oct 2025) EndedAt: 2025-10-21 22:06:04 -0400 (Tue, 21 Oct 2025) EllapsedTime: 39.1 seconds RetCode: 0 Status: OK CheckDir: GCPtools.Rcheck Warnings: 0