Package: GCPtools Version: 0.99.4 Command: /Library/Frameworks/R.framework/Resources/bin/R CMD build --keep-empty-dirs --no-resave-data GCPtools StartedAt: 2025-10-21 17:19:11 -0400 (Tue, 21 Oct 2025) EndedAt: 2025-10-21 17:19:27 -0400 (Tue, 21 Oct 2025) EllapsedTime: 16.1 seconds RetCode: 0 Status: OK PackageFile: GCPtools_0.99.4.tar.gz PackageFileSize: 302.1 KiB