Package: GCPtools Version: 0.99.4 Command: rm -rf GCPtools.buildbin-libdir && mkdir GCPtools.buildbin-libdir && /Users/biocbuild/BBS/utils/build-universal.sh GCPtools_0.99.4.tar.gz /Library/Frameworks/R.framework/Resources/bin/R GCPtools.buildbin-libdir StartedAt: 2025-10-23 01:33:38 -0400 (Thu, 23 Oct 2025) EndedAt: 2025-10-23 01:33:47 -0400 (Thu, 23 Oct 2025) EllapsedTime: 9.3 seconds RetCode: 0 Status: OK PackageFile: GCPtools_0.99.4.tgz PackageFileSize: 338.5 KiB