Package: GCPtools Version: 0.99.4 Command: /Library/Frameworks/R.framework/Resources/bin/R CMD INSTALL GCPtools StartedAt: 2025-10-24 15:07:51 -0400 (Fri, 24 Oct 2025) EndedAt: 2025-10-24 15:07:53 -0400 (Fri, 24 Oct 2025) EllapsedTime: 2.2 seconds RetCode: 0 Status: OK