Package: GBScleanR Version: 2.3.2 Command: /home/biocbuild/R/R/bin/R CMD check --install=check:GBScleanR.install-out.txt --library=/home/biocbuild/R/R/site-library --no-vignettes --timings GBScleanR_2.3.2.tar.gz StartedAt: 2025-10-17 09:12:19 -0000 (Fri, 17 Oct 2025) EndedAt: 2025-10-17 09:15:30 -0000 (Fri, 17 Oct 2025) EllapsedTime: 191.1 seconds RetCode: 1 Status: ERROR CheckDir: GBScleanR.Rcheck Warnings: NA