Package: GBScleanR Version: 2.3.2 Command: /home/biocbuild/bbs-3.22-bioc/R/bin/R CMD INSTALL GBScleanR StartedAt: 2025-10-19 15:32:51 -0400 (Sun, 19 Oct 2025) EndedAt: 2025-10-19 15:33:37 -0400 (Sun, 19 Oct 2025) EllapsedTime: 45.8 seconds RetCode: 0 Status: OK