Package: GBScleanR Version: 2.3.2 Command: /Library/Frameworks/R.framework/Resources/bin/R CMD check --install=check:GBScleanR.install-out.txt --library=/Library/Frameworks/R.framework/Resources/library --no-vignettes --timings GBScleanR_2.3.2.tar.gz StartedAt: 2025-10-19 22:26:46 -0400 (Sun, 19 Oct 2025) EndedAt: 2025-10-19 22:33:13 -0400 (Sun, 19 Oct 2025) EllapsedTime: 387.8 seconds RetCode: 0 Status: OK CheckDir: GBScleanR.Rcheck Warnings: 0