Package: GBScleanR Version: 2.3.2 Command: rm -rf GBScleanR.buildbin-libdir && mkdir GBScleanR.buildbin-libdir && /Users/biocbuild/BBS/utils/build-universal.sh GBScleanR_2.3.2.tar.gz /Library/Frameworks/R.framework/Resources/bin/R GBScleanR.buildbin-libdir StartedAt: 2025-10-21 03:12:45 -0400 (Tue, 21 Oct 2025) EndedAt: 2025-10-21 03:13:51 -0400 (Tue, 21 Oct 2025) EllapsedTime: 65.8 seconds RetCode: 0 Status: OK PackageFile: GBScleanR_2.3.2.tgz PackageFileSize: 2.873 MiB