Package: GBScleanR Version: 2.3.2 Command: /Library/Frameworks/R.framework/Resources/bin/R CMD INSTALL GBScleanR StartedAt: 2025-10-19 15:17:56 -0400 (Sun, 19 Oct 2025) EndedAt: 2025-10-19 15:18:11 -0400 (Sun, 19 Oct 2025) EllapsedTime: 15.0 seconds RetCode: 0 Status: OK