Package: GAprediction Version: 1.35.0 Command: /home/biocbuild/R/R/bin/R CMD check --install=check:GAprediction.install-out.txt --library=/home/biocbuild/R/R/site-library --no-vignettes --timings GAprediction_1.35.0.tar.gz StartedAt: 2025-10-17 09:10:36 -0000 (Fri, 17 Oct 2025) EndedAt: 2025-10-17 09:11:50 -0000 (Fri, 17 Oct 2025) EllapsedTime: 74.0 seconds RetCode: 0 Status: OK CheckDir: GAprediction.Rcheck Warnings: 0