Package: GAprediction Version: 1.35.0 Command: /home/biocbuild/R/R/bin/R CMD build --keep-empty-dirs --no-resave-data GAprediction StartedAt: 2025-10-20 23:52:47 -0000 (Mon, 20 Oct 2025) EndedAt: 2025-10-20 23:53:31 -0000 (Mon, 20 Oct 2025) EllapsedTime: 44.0 seconds RetCode: 0 Status: OK PackageFile: GAprediction_1.35.0.tar.gz PackageFileSize: 1.807 MiB