Package: GAprediction Version: 1.35.0 Command: /home/biocbuild/bbs-3.22-bioc/R/bin/R CMD INSTALL GAprediction StartedAt: 2025-10-20 15:04:48 -0400 (Mon, 20 Oct 2025) EndedAt: 2025-10-20 15:05:06 -0400 (Mon, 20 Oct 2025) EllapsedTime: 18.3 seconds RetCode: 0 Status: OK