Package: GAprediction Version: 1.35.0 Command: /home/biocbuild/bbs-3.22-bioc/R/bin/R CMD check --install=check:GAprediction.install-out.txt --library=/home/biocbuild/bbs-3.22-bioc/R/site-library --timings GAprediction_1.35.0.tar.gz StartedAt: 2025-10-20 23:56:43 -0400 (Mon, 20 Oct 2025) EndedAt: 2025-10-20 23:58:13 -0400 (Mon, 20 Oct 2025) EllapsedTime: 90.1 seconds RetCode: 0 Status: OK CheckDir: GAprediction.Rcheck Warnings: 0