Package: GAprediction Version: 1.35.0 Command: /Library/Frameworks/R.framework/Resources/bin/R CMD INSTALL GAprediction StartedAt: 2025-10-23 15:08:15 -0400 (Thu, 23 Oct 2025) EndedAt: 2025-10-23 15:09:15 -0400 (Thu, 23 Oct 2025) EllapsedTime: 59.8 seconds RetCode: 0 Status: OK