Package: GAprediction Version: 1.35.0 Command: rm -rf GAprediction.buildbin-libdir && mkdir GAprediction.buildbin-libdir && /Users/biocbuild/BBS/utils/build-universal.sh GAprediction_1.35.0.tar.gz /Library/Frameworks/R.framework/Resources/bin/R GAprediction.buildbin-libdir StartedAt: 2025-10-24 01:35:15 -0400 (Fri, 24 Oct 2025) EndedAt: 2025-10-24 01:35:32 -0400 (Fri, 24 Oct 2025) EllapsedTime: 16.2 seconds RetCode: 0 Status: OK PackageFile: GAprediction_1.35.0.tgz PackageFileSize: 885 KiB