Package: GAprediction Version: 1.35.0 Command: /Library/Frameworks/R.framework/Resources/bin/R CMD build --keep-empty-dirs --no-resave-data GAprediction StartedAt: 2025-10-20 16:25:48 -0400 (Mon, 20 Oct 2025) EndedAt: 2025-10-20 16:26:03 -0400 (Mon, 20 Oct 2025) EllapsedTime: 15.2 seconds RetCode: 0 Status: OK PackageFile: GAprediction_1.35.0.tar.gz PackageFileSize: 1.806 MiB