Package: GARS Version: 1.29.0 Command: F:\biocbuild\bbs-3.22-bioc\R\bin\R.exe CMD check --no-multiarch --install=check:GARS.install-out.txt --library=F:\biocbuild\bbs-3.22-bioc\R\library --no-vignettes --timings GARS_1.29.0.tar.gz StartedAt: 2025-08-15 03:23:47 -0400 (Fri, 15 Aug 2025) EndedAt: 2025-08-15 03:32:22 -0400 (Fri, 15 Aug 2025) EllapsedTime: 515.2 seconds RetCode: 0 Status: OK CheckDir: GARS.Rcheck Warnings: 0