Package: GARS Version: 1.29.0 Command: /home/biocbuild/bbs-3.22-bioc/R/bin/R CMD check --install=check:GARS.install-out.txt --library=/home/biocbuild/bbs-3.22-bioc/R/site-library --timings GARS_1.29.0.tar.gz StartedAt: 2025-10-20 23:57:01 -0400 (Mon, 20 Oct 2025) EndedAt: 2025-10-21 00:04:33 -0400 (Tue, 21 Oct 2025) EllapsedTime: 451.4 seconds RetCode: 0 Status: OK CheckDir: GARS.Rcheck Warnings: 0