Package: GARS Version: 1.29.0 Command: /Library/Frameworks/R.framework/Resources/bin/R CMD INSTALL GARS StartedAt: 2025-10-21 15:48:32 -0400 (Tue, 21 Oct 2025) EndedAt: 2025-10-21 15:49:49 -0400 (Tue, 21 Oct 2025) EllapsedTime: 77.4 seconds RetCode: 0 Status: OK