Package: GARS Version: 1.29.0 Command: /Library/Frameworks/R.framework/Resources/bin/R CMD INSTALL GARS StartedAt: 2025-10-20 15:28:04 -0400 (Mon, 20 Oct 2025) EndedAt: 2025-10-20 15:28:26 -0400 (Mon, 20 Oct 2025) EllapsedTime: 22.3 seconds RetCode: 0 Status: OK