Package: GARS Version: 1.29.0 Command: rm -rf GARS.buildbin-libdir && mkdir GARS.buildbin-libdir && /Users/biocbuild/BBS/utils/build-universal.sh GARS_1.29.0.tar.gz /Library/Frameworks/R.framework/Resources/bin/R GARS.buildbin-libdir StartedAt: 2025-10-20 23:01:02 -0400 (Mon, 20 Oct 2025) EndedAt: 2025-10-20 23:01:31 -0400 (Mon, 20 Oct 2025) EllapsedTime: 28.6 seconds RetCode: 0 Status: OK PackageFile: GARS_1.29.0.tgz PackageFileSize: 501.6 KiB