Package: GA4GHshiny Version: 1.31.1 Command: /home/biocbuild/bbs-3.22-bioc/R/bin/R CMD INSTALL GA4GHshiny StartedAt: 2025-10-19 15:46:42 -0400 (Sun, 19 Oct 2025) EndedAt: 2025-10-19 15:47:21 -0400 (Sun, 19 Oct 2025) EllapsedTime: 39.0 seconds RetCode: 0 Status: OK