Package: GA4GHshiny Version: 1.31.1 Command: /Library/Frameworks/R.framework/Resources/bin/R CMD INSTALL GA4GHshiny StartedAt: 2025-10-22 15:40:24 -0400 (Wed, 22 Oct 2025) EndedAt: 2025-10-22 15:41:18 -0400 (Wed, 22 Oct 2025) EllapsedTime: 54.2 seconds RetCode: 0 Status: OK