Package: GA4GHshiny Version: 1.31.1 Command: /Library/Frameworks/R.framework/Resources/bin/R CMD check --install=check:GA4GHshiny.install-out.txt --library=/Library/Frameworks/R.framework/Resources/library --no-vignettes --timings GA4GHshiny_1.31.1.tar.gz StartedAt: 2025-10-17 19:53:05 -0400 (Fri, 17 Oct 2025) EndedAt: 2025-10-17 19:54:59 -0400 (Fri, 17 Oct 2025) EllapsedTime: 114.3 seconds RetCode: 0 Status: OK CheckDir: GA4GHshiny.Rcheck Warnings: 0