Package: G4SNVHunter Version: 1.1.6 Command: /home/biocbuild/R/R/bin/R CMD INSTALL G4SNVHunter StartedAt: 2025-10-20 21:00:13 -0000 (Mon, 20 Oct 2025) EndedAt: 2025-10-20 21:01:15 -0000 (Mon, 20 Oct 2025) EllapsedTime: 62.6 seconds RetCode: 0 Status: OK