Package: G4SNVHunter Version: 1.1.6 Command: /home/biocbuild/R/R/bin/R CMD check --install=check:G4SNVHunter.install-out.txt --library=/home/biocbuild/R/R/site-library --no-vignettes --timings G4SNVHunter_1.1.6.tar.gz StartedAt: 2025-10-17 09:09:13 -0000 (Fri, 17 Oct 2025) EndedAt: 2025-10-17 09:34:10 -0000 (Fri, 17 Oct 2025) EllapsedTime: 1496.9 seconds RetCode: 0 Status: WARNINGS CheckDir: G4SNVHunter.Rcheck Warnings: 1