Package: G4SNVHunter Version: 1.1.6 Command: /home/biocbuild/R/R/bin/R CMD build --keep-empty-dirs --no-resave-data G4SNVHunter StartedAt: 2025-10-20 23:51:50 -0000 (Mon, 20 Oct 2025) EndedAt: 2025-10-20 23:52:53 -0000 (Mon, 20 Oct 2025) EllapsedTime: 63.0 seconds RetCode: 0 Status: OK PackageFile: G4SNVHunter_1.1.6.tar.gz PackageFileSize: 990.8 KiB