Package: G4SNVHunter Version: 1.1.6 Command: F:\biocbuild\bbs-3.22-bioc\R\bin\R.exe CMD check --no-multiarch --install=check:G4SNVHunter.install-out.txt --library=F:\biocbuild\bbs-3.22-bioc\R\library --no-vignettes --timings G4SNVHunter_1.1.6.tar.gz StartedAt: 2025-08-15 03:22:12 -0400 (Fri, 15 Aug 2025) EndedAt: 2025-08-15 03:45:51 -0400 (Fri, 15 Aug 2025) EllapsedTime: 1418.8 seconds RetCode: 0 Status: WARNINGS CheckDir: G4SNVHunter.Rcheck Warnings: 1