Package: G4SNVHunter Version: 1.1.6 Command: /home/biocbuild/bbs-3.22-bioc/R/bin/R CMD INSTALL G4SNVHunter StartedAt: 2025-10-19 15:41:18 -0400 (Sun, 19 Oct 2025) EndedAt: 2025-10-19 15:42:06 -0400 (Sun, 19 Oct 2025) EllapsedTime: 48.5 seconds RetCode: 0 Status: OK