Package: G4SNVHunter Version: 1.1.6 Command: /home/biocbuild/bbs-3.22-bioc/R/bin/R CMD check --install=check:G4SNVHunter.install-out.txt --library=/home/biocbuild/bbs-3.22-bioc/R/site-library --timings G4SNVHunter_1.1.6.tar.gz StartedAt: 2025-10-20 00:00:25 -0400 (Mon, 20 Oct 2025) EndedAt: 2025-10-20 00:18:23 -0400 (Mon, 20 Oct 2025) EllapsedTime: 1077.9 seconds RetCode: 0 Status: WARNINGS CheckDir: G4SNVHunter.Rcheck Warnings: 1