Package: G4SNVHunter Version: 1.1.6 Command: /home/biocbuild/bbs-3.22-bioc/R/bin/R CMD build --keep-empty-dirs --no-resave-data --md5 G4SNVHunter StartedAt: 2025-10-20 17:38:42 -0400 (Mon, 20 Oct 2025) EndedAt: 2025-10-20 17:39:31 -0400 (Mon, 20 Oct 2025) EllapsedTime: 49.1 seconds RetCode: 0 Status: OK PackageFile: G4SNVHunter_1.1.6.tar.gz PackageFileSize: 967.4 KiB