Package: G4SNVHunter Version: 1.1.6 Command: /Library/Frameworks/R.framework/Resources/bin/R CMD INSTALL G4SNVHunter StartedAt: 2025-10-19 15:39:05 -0400 (Sun, 19 Oct 2025) EndedAt: 2025-10-19 15:40:12 -0400 (Sun, 19 Oct 2025) EllapsedTime: 66.6 seconds RetCode: 0 Status: OK