Package: G4SNVHunter Version: 1.1.6 Command: /Library/Frameworks/R.framework/Resources/bin/R CMD check --install=check:G4SNVHunter.install-out.txt --library=/Library/Frameworks/R.framework/Resources/library --no-vignettes --timings G4SNVHunter_1.1.6.tar.gz StartedAt: 2025-10-17 19:52:40 -0400 (Fri, 17 Oct 2025) EndedAt: 2025-10-17 19:58:49 -0400 (Fri, 17 Oct 2025) EllapsedTime: 369.5 seconds RetCode: 0 Status: WARNINGS CheckDir: G4SNVHunter.Rcheck Warnings: 1