Package: FuseSOM Version: 1.12.0 Command: /home/biocbuild/bbs-3.22-bioc/R/bin/R CMD INSTALL FuseSOM StartedAt: 2025-11-17 17:24:34 -0500 (Mon, 17 Nov 2025) EndedAt: 2025-11-17 17:25:01 -0500 (Mon, 17 Nov 2025) EllapsedTime: 26.8 seconds RetCode: 0 Status: OK