Package: FuseSOM Version: 1.12.0 Command: /Library/Frameworks/R.framework/Resources/bin/R CMD INSTALL FuseSOM StartedAt: 2025-11-17 17:26:39 -0500 (Mon, 17 Nov 2025) EndedAt: 2025-11-17 17:26:51 -0500 (Mon, 17 Nov 2025) EllapsedTime: 11.3 seconds RetCode: 0 Status: OK