Package: FitHiC Version: 1.35.0 Command: /home/biocbuild/R/R/bin/R CMD check --install=check:FitHiC.install-out.txt --library=/home/biocbuild/R/R/site-library --no-vignettes --timings FitHiC_1.35.0.tar.gz StartedAt: 2025-10-17 09:01:31 -0000 (Fri, 17 Oct 2025) EndedAt: 2025-10-17 09:04:02 -0000 (Fri, 17 Oct 2025) EllapsedTime: 150.1 seconds RetCode: 0 Status: OK CheckDir: FitHiC.Rcheck Warnings: 0