Package: FitHiC Version: 1.35.0 Command: /home/biocbuild/bbs-3.22-bioc/R/bin/R CMD INSTALL FitHiC StartedAt: 2025-10-19 15:03:29 -0400 (Sun, 19 Oct 2025) EndedAt: 2025-10-19 15:03:46 -0400 (Sun, 19 Oct 2025) EllapsedTime: 16.8 seconds RetCode: 0 Status: OK