Package: FitHiC Version: 1.35.0 Command: /Library/Frameworks/R.framework/Resources/bin/R CMD INSTALL FitHiC StartedAt: 2025-10-19 15:01:24 -0400 (Sun, 19 Oct 2025) EndedAt: 2025-10-19 15:01:30 -0400 (Sun, 19 Oct 2025) EllapsedTime: 6.0 seconds RetCode: 0 Status: OK