Package: FitHiC Version: 1.35.0 Command: /Library/Frameworks/R.framework/Resources/bin/R CMD build --keep-empty-dirs --no-resave-data FitHiC StartedAt: 2025-10-19 16:23:11 -0400 (Sun, 19 Oct 2025) EndedAt: 2025-10-19 16:24:09 -0400 (Sun, 19 Oct 2025) EllapsedTime: 57.7 seconds RetCode: 0 Status: OK PackageFile: FitHiC_1.35.0.tar.gz PackageFileSize: 27.88 MiB