Package: FinfoMDS Version: 0.99.2 Command: /home/biocbuild/R/R/bin/R CMD check --install=check:FinfoMDS.install-out.txt --library=/home/biocbuild/R/R/site-library --no-vignettes --timings FinfoMDS_0.99.2.tar.gz StartedAt: 2025-10-17 09:00:21 -0000 (Fri, 17 Oct 2025) EndedAt: 2025-10-17 09:04:15 -0000 (Fri, 17 Oct 2025) EllapsedTime: 233.2 seconds RetCode: 0 Status: OK CheckDir: FinfoMDS.Rcheck Warnings: 0