Package: FinfoMDS Version: 0.99.2 Command: /home/biocbuild/bbs-3.22-bioc/R/bin/R CMD INSTALL FinfoMDS StartedAt: 2025-10-22 15:33:39 -0400 (Wed, 22 Oct 2025) EndedAt: 2025-10-22 15:33:58 -0400 (Wed, 22 Oct 2025) EllapsedTime: 18.9 seconds RetCode: 0 Status: OK